BEGIN:VCALENDAR
VERSION:2.0
PRODID:-//Raleigh Tabletop RPGs - ECPv6.15.11//NONSGML v1.0//EN
CALSCALE:GREGORIAN
METHOD:PUBLISH
X-WR-CALNAME:Raleigh Tabletop RPGs
X-ORIGINAL-URL:https://raleigh-tabletop.org
X-WR-CALDESC:Events for Raleigh Tabletop RPGs
REFRESH-INTERVAL;VALUE=DURATION:PT1H
X-Robots-Tag:noindex
X-PUBLISHED-TTL:PT1H
BEGIN:VTIMEZONE
TZID:America/New_York
BEGIN:DAYLIGHT
TZOFFSETFROM:-0500
TZOFFSETTO:-0400
TZNAME:EDT
DTSTART:20190310T070000
END:DAYLIGHT
BEGIN:STANDARD
TZOFFSETFROM:-0400
TZOFFSETTO:-0500
TZNAME:EST
DTSTART:20191103T060000
END:STANDARD
BEGIN:DAYLIGHT
TZOFFSETFROM:-0500
TZOFFSETTO:-0400
TZNAME:EDT
DTSTART:20200308T070000
END:DAYLIGHT
BEGIN:STANDARD
TZOFFSETFROM:-0400
TZOFFSETTO:-0500
TZNAME:EST
DTSTART:20201101T060000
END:STANDARD
BEGIN:DAYLIGHT
TZOFFSETFROM:-0500
TZOFFSETTO:-0400
TZNAME:EDT
DTSTART:20210314T070000
END:DAYLIGHT
BEGIN:STANDARD
TZOFFSETFROM:-0400
TZOFFSETTO:-0500
TZNAME:EST
DTSTART:20211107T060000
END:STANDARD
BEGIN:DAYLIGHT
TZOFFSETFROM:-0500
TZOFFSETTO:-0400
TZNAME:EDT
DTSTART:20220313T070000
END:DAYLIGHT
BEGIN:STANDARD
TZOFFSETFROM:-0400
TZOFFSETTO:-0500
TZNAME:EST
DTSTART:20221106T060000
END:STANDARD
END:VTIMEZONE
BEGIN:VTIMEZONE
TZID:America/New_York
BEGIN:DAYLIGHT
TZOFFSETFROM:-0500
TZOFFSETTO:-0400
TZNAME:EDT
DTSTART:20190310T070000
END:DAYLIGHT
BEGIN:STANDARD
TZOFFSETFROM:-0400
TZOFFSETTO:-0500
TZNAME:EST
DTSTART:20191103T060000
END:STANDARD
BEGIN:DAYLIGHT
TZOFFSETFROM:-0500
TZOFFSETTO:-0400
TZNAME:EDT
DTSTART:20200308T070000
END:DAYLIGHT
BEGIN:STANDARD
TZOFFSETFROM:-0400
TZOFFSETTO:-0500
TZNAME:EST
DTSTART:20201101T060000
END:STANDARD
BEGIN:DAYLIGHT
TZOFFSETFROM:-0500
TZOFFSETTO:-0400
TZNAME:EDT
DTSTART:20210314T070000
END:DAYLIGHT
BEGIN:STANDARD
TZOFFSETFROM:-0400
TZOFFSETTO:-0500
TZNAME:EST
DTSTART:20211107T060000
END:STANDARD
BEGIN:DAYLIGHT
TZOFFSETFROM:-0500
TZOFFSETTO:-0400
TZNAME:EDT
DTSTART:20220313T070000
END:DAYLIGHT
BEGIN:STANDARD
TZOFFSETFROM:-0400
TZOFFSETTO:-0500
TZNAME:EST
DTSTART:20221106T060000
END:STANDARD
END:VTIMEZONE
BEGIN:VEVENT
DTSTART;TZID=America/New_York:20210228T140000
DTEND;TZID=America/New_York:20210228T180000
DTSTAMP:20260424T202605
CREATED:20201225T162352Z
LAST-MODIFIED:20201225T162352Z
UID:357-1614520800-1614535200@raleigh-tabletop.org
SUMMARY:Mouse Guard Session Four
DESCRIPTION:https://allhaven.obsidianportal.com/ \nIt’s 1254 and the City of Allhaven is thriving! However\, as the cold winds of autumn settle in the locals’ bones and a colder winter looms on the horizon\, there is a scramble for resources. With everyone storing what they can\, will there be room at the table for their neighbors? As the age of frontier mice\, pioneers\, and explorers continues\, will the Allguard have what it takes to keep the community together? \nArt by Natalia Trykowska @Verauko (https://www.instagram.com/itsVerauko/)
URL:https://raleigh-tabletop.org/event/mouse-guard-session-four/
LOCATION:Online event
CATEGORIES:Allhaven,Club Play
ATTACH;FMTTYPE=image/png:https://raleigh-tabletop.org/wp-content/uploads/2020/12/mouseguard.png
END:VEVENT
BEGIN:VEVENT
DTSTART;TZID=America/New_York:20210226T183000
DTEND;TZID=America/New_York:20210226T230000
DTSTAMP:20260424T202605
CREATED:20201225T160620Z
LAST-MODIFIED:20201225T160620Z
UID:342-1614364200-1614380400@raleigh-tabletop.org
SUMMARY:Miskatonic Society Anthology: Session 4
DESCRIPTION:The Miskatonic Society is RTR’s longest running Semi-Organized play campaign. This season\, we will explorer a variety of eras of play via a series of stand-alone convention-style sessions. Please be sure to follow the link to the session descriptions to rank you preferred session. \nWant a quick overview of the Call of Cthulhu rules? Curious about how the Keepers intend to approach the season? You can find our House Rules and Game Mechanic summaries in the Player Packet.
URL:https://raleigh-tabletop.org/event/miskatonic-society-anthology-session-4/
LOCATION:Online event
ATTACH;FMTTYPE=image/png:https://raleigh-tabletop.org/wp-content/uploads/2020/12/295_image_highres_493919809-2.png
END:VEVENT
BEGIN:VEVENT
DTSTART;TZID=America/New_York:20210214T140000
DTEND;TZID=America/New_York:20210214T180000
DTSTAMP:20260424T202605
CREATED:20201225T162047Z
LAST-MODIFIED:20201225T162047Z
UID:355-1613311200-1613325600@raleigh-tabletop.org
SUMMARY:Mouse Guard Session Three
DESCRIPTION:https://allhaven.obsidianportal.com/ \nIt’s 1254 and the City of Allhaven is thriving! However\, as the cold winds of autumn settle in the locals’ bones and a colder winter looms on the horizon\, there is a scramble for resources. With everyone storing what they can\, will there be room at the table for their neighbors? As the age of frontier mice\, pioneers\, and explorers continues\, will the Allguard have what it takes to keep the community together? \nArt by Natalia Trykowska @Verauko (https://www.instagram.com/itsVerauko/)
URL:https://raleigh-tabletop.org/event/mouse-guard-session-three/
LOCATION:Online event
CATEGORIES:Allhaven,Club Play
ATTACH;FMTTYPE=image/png:https://raleigh-tabletop.org/wp-content/uploads/2020/12/mouseguard.png
END:VEVENT
BEGIN:VEVENT
DTSTART;TZID=America/New_York:20210212T183000
DTEND;TZID=America/New_York:20210212T230000
DTSTAMP:20260424T202605
CREATED:20201225T160332Z
LAST-MODIFIED:20210219T180802Z
UID:340-1613154600-1613170800@raleigh-tabletop.org
SUMMARY:Miskatonic Society Anthology: Session 3
DESCRIPTION:The Miskatonic Society is RTR’s longest running Semi-Organized play campaign. This season\, we will explorer a variety of eras of play via a series of stand-alone convention-style sessions. Please be sure to follow the link to the session descriptions to rank you preferred session. \nWant a quick overview of the Call of Cthulhu rules? Curious about how the Keepers intend to approach the season? You can find our House Rules and Game Mechanic summaries in the Player Packet.
URL:https://raleigh-tabletop.org/event/miskatonic-society-anthology-session-3/
LOCATION:Online event
CATEGORIES:Club Play,Miskatonic
ATTACH;FMTTYPE=image/png:https://raleigh-tabletop.org/wp-content/uploads/2020/12/295_image_highres_493919809-2.png
END:VEVENT
BEGIN:VEVENT
DTSTART;TZID=America/New_York:20210124T140000
DTEND;TZID=America/New_York:20210124T180000
DTSTAMP:20260424T202605
CREATED:20201225T161512Z
LAST-MODIFIED:20201225T161815Z
UID:351-1611496800-1611511200@raleigh-tabletop.org
SUMMARY:Mouse Guard Session Two
DESCRIPTION:https://allhaven.obsidianportal.com/ \nIt’s 1254 and the City of Allhaven is thriving! However\, as the cold winds of autumn settle in the locals’ bones and a colder winter looms on the horizon\, there is a scramble for resources. With everyone storing what they can\, will there be room at the table for their neighbors? As the age of frontier mice\, pioneers\, and explorers continues\, will the Allguard have what it takes to keep the community together? \nArt by Natalia Trykowska @Verauko (https://www.instagram.com/itsVerauko/)
URL:https://raleigh-tabletop.org/event/mouse-guard-session-two/
LOCATION:Online event
CATEGORIES:Allhaven,Club Play
ATTACH;FMTTYPE=image/png:https://raleigh-tabletop.org/wp-content/uploads/2020/12/mouseguard.png
END:VEVENT
BEGIN:VEVENT
DTSTART;TZID=America/New_York:20210122T183000
DTEND;TZID=America/New_York:20210122T230000
DTSTAMP:20260424T202605
CREATED:20201222T134658Z
LAST-MODIFIED:20210118T124213Z
UID:317-1611340200-1611356400@raleigh-tabletop.org
SUMMARY:Miskatonic Society Anthology: Session 2
DESCRIPTION:The Miskatonic Society is RTR’s longest running Semi-Organized play campaign. This season\, we will explorer a variety of eras of play via a series of stand-alone convention-style sessions. Please be sure to follow the link to the session descriptions to rank you preferred session. \nWant a quick overview of the Call of Cthulhu rules? Curious about how the Keepers intend to approach the season? You can find our House Rules and Game Mechanic summaries in the Player Packet.
URL:https://raleigh-tabletop.org/event/miskatonic-society-anthology-session-1/
LOCATION:Online event
CATEGORIES:Club Play,Miskatonic
ATTACH;FMTTYPE=image/png:https://raleigh-tabletop.org/wp-content/uploads/2020/12/299_image_highres_493919809.png
END:VEVENT
BEGIN:VEVENT
DTSTART;TZID=America/New_York:20210110T140000
DTEND;TZID=America/New_York:20210110T180000
DTSTAMP:20260424T202605
CREATED:20201225T161218Z
LAST-MODIFIED:20201225T161634Z
UID:349-1610287200-1610301600@raleigh-tabletop.org
SUMMARY:Mouse Guard Session One
DESCRIPTION:https://allhaven.obsidianportal.com/ \nIt’s 1254 and the City of Allhaven is thriving! However\, as the cold winds of autumn settle in the locals’ bones and a colder winter looms on the horizon\, there is a scramble for resources. With everyone storing what they can\, will there be room at the table for their neighbors? As the age of frontier mice\, pioneers\, and explorers continues\, will the Allguard have what it takes to keep the community together? \nArt by Natalia Trykowska @Verauko (https://www.instagram.com/itsVerauko/)
URL:https://raleigh-tabletop.org/event/mouse-guard-session-one/
LOCATION:Online event
CATEGORIES:Allhaven,Club Play
ATTACH;FMTTYPE=image/png:https://raleigh-tabletop.org/wp-content/uploads/2020/12/mouseguard.png
END:VEVENT
BEGIN:VEVENT
DTSTART;TZID=America/New_York:20210108T183000
DTEND;TZID=America/New_York:20210108T230000
DTSTAMP:20260424T202605
CREATED:20201225T160118Z
LAST-MODIFIED:20201225T160118Z
UID:338-1610130600-1610146800@raleigh-tabletop.org
SUMMARY:Miskatonic Society Anthology: Session 1
DESCRIPTION:The Miskatonic Society is RTR’s longest running Semi-Organized play campaign. This season\, we will explorer a variety of eras of play via a series of stand-alone convention-style sessions. Please be sure to follow the link to the session descriptions to rank you preferred session. \nWant a quick overview of the Call of Cthulhu rules? Curious about how the Keepers intend to approach the season? You can find our House Rules and Game Mechanic summaries in the Player Packet.
URL:https://raleigh-tabletop.org/event/miskatonic-society-anthology-session-1-2/
LOCATION:Online event
CATEGORIES:Club Play,Miskatonic
ATTACH;FMTTYPE=image/png:https://raleigh-tabletop.org/wp-content/uploads/2020/12/295_image_highres_493919809-2.png
END:VEVENT
BEGIN:VEVENT
DTSTART;TZID=America/New_York:20210103T140000
DTEND;TZID=America/New_York:20210103T180000
DTSTAMP:20260424T202605
CREATED:20201222T041422Z
LAST-MODIFIED:20201222T042110Z
UID:308-1609682400-1609696800@raleigh-tabletop.org
SUMMARY:Mouseguard Session Zero
DESCRIPTION:It’s 1254 and the City of Allhaven is thriving! However\, as the cold winds of autumn settle in the locals’ bones and a colder winter looms on the horizon\, there is a scramble for resources. With everyone storing what they can\, will there be room at the table for their neighbors? As the age of frontier mice\, pioneers\, and explorers continues\, will the Allguard have what it takes to keep the community together? \nhttps://allhaven.obsidianportal.com/ \nArt by Natalia Trykowska @Verauko (https://www.instagram.com/itsVerauko/)
URL:https://raleigh-tabletop.org/event/mouseguard-session-zero/
LOCATION:Online event
CATEGORIES:Allhaven,Club Play
ATTACH;FMTTYPE=image/png:https://raleigh-tabletop.org/wp-content/uploads/2020/12/mouseguard.png
END:VEVENT
BEGIN:VEVENT
DTSTART;TZID=America/New_York:20201230T190000
DTEND;TZID=America/New_York:20201230T210000
DTSTAMP:20260424T202605
CREATED:20201222T040745Z
LAST-MODIFIED:20201229T015248Z
UID:304-1609354800-1609362000@raleigh-tabletop.org
SUMMARY:Call of Cthulhu and Roll20
DESCRIPTION:Join the Miskatonic Society SOP staff as they demonstrate how to get the most out of Roll20 for Call of Cthulhu. We’ll go over how to use the Character sheet\, roll dice\, and use other features in Roll20
URL:https://raleigh-tabletop.org/event/call-of-cthulhu-and-roll20/
LOCATION:Online event
CATEGORIES:Club Play,Miskatonic
ATTACH;FMTTYPE=image/png:https://raleigh-tabletop.org/wp-content/uploads/2020/12/299_image_highres_493919809.png
END:VEVENT
BEGIN:VEVENT
DTSTART;TZID=America/New_York:20201223T190000
DTEND;TZID=America/New_York:20201223T210000
DTSTAMP:20260424T202605
CREATED:20201222T025940Z
LAST-MODIFIED:20201223T184743Z
UID:295-1608750000-1608757200@raleigh-tabletop.org
SUMMARY:What Is Call of Cthulhu?
DESCRIPTION:Join the Miskatonic Society SOP staff as they discuss what to expect from a cosmic horror\, and specifically a Call of Cthulhu\, game. \nThis will be an overview of the genre and a brief discussion of the rules of Call of Cthulhu itself.
URL:https://raleigh-tabletop.org/event/what-is-call-of-cthulhu/
LOCATION:Online event
CATEGORIES:Club Play,Miskatonic
ATTACH;FMTTYPE=image/png:https://raleigh-tabletop.org/wp-content/uploads/2020/12/299_image_highres_493919809.png
END:VEVENT
END:VCALENDAR