BEGIN:VCALENDAR
VERSION:2.0
PRODID:-//Raleigh Tabletop RPGs - ECPv6.15.11//NONSGML v1.0//EN
CALSCALE:GREGORIAN
METHOD:PUBLISH
X-WR-CALNAME:Raleigh Tabletop RPGs
X-ORIGINAL-URL:https://raleigh-tabletop.org
X-WR-CALDESC:Events for Raleigh Tabletop RPGs
REFRESH-INTERVAL;VALUE=DURATION:PT1H
X-Robots-Tag:noindex
X-PUBLISHED-TTL:PT1H
BEGIN:VTIMEZONE
TZID:America/New_York
BEGIN:DAYLIGHT
TZOFFSETFROM:-0500
TZOFFSETTO:-0400
TZNAME:EDT
DTSTART:20200308T070000
END:DAYLIGHT
BEGIN:STANDARD
TZOFFSETFROM:-0400
TZOFFSETTO:-0500
TZNAME:EST
DTSTART:20201101T060000
END:STANDARD
BEGIN:DAYLIGHT
TZOFFSETFROM:-0500
TZOFFSETTO:-0400
TZNAME:EDT
DTSTART:20210314T070000
END:DAYLIGHT
BEGIN:STANDARD
TZOFFSETFROM:-0400
TZOFFSETTO:-0500
TZNAME:EST
DTSTART:20211107T060000
END:STANDARD
BEGIN:DAYLIGHT
TZOFFSETFROM:-0500
TZOFFSETTO:-0400
TZNAME:EDT
DTSTART:20220313T070000
END:DAYLIGHT
BEGIN:STANDARD
TZOFFSETFROM:-0400
TZOFFSETTO:-0500
TZNAME:EST
DTSTART:20221106T060000
END:STANDARD
END:VTIMEZONE
BEGIN:VEVENT
DTSTART;TZID=America/New_York:20210717T120000
DTEND;TZID=America/New_York:20210717T220000
DTSTAMP:20260424T005458
CREATED:20210701T210926Z
LAST-MODIFIED:20210701T210926Z
UID:526-1626523200-1626559200@raleigh-tabletop.org
SUMMARY:Tales of the Crimson Boar XI: Incredible Discoveries!
DESCRIPTION:Stupendous magical artifacts\, crafted by maddened sages of impossible skill; long-lost civilizations\, fallen into ruin following calamities that have become naught but legend; unprecedented advances\, driving whole peoples forward into uncertain futures; unlikely allies on unlikelier adventures\, uncovering mysteries beyond fathoming. Or perhaps simply the incredible discoveries that mark every unforeseen turning of the world\, shaking the foundations of all that is known. Within and beyond the legendary Crimson Boar Inn\, many adventurers have stumbled across the unbelievable! Through it all\, the old Inn stands firm\, though some whisper it yet holds mysteries of its own. . . \nJoin us for Raleigh Tabletop RPGs’ annual fantasy gaming event as we mark our 11th straight year of adventure at the Crimson Boar Inn! Many years ago\, those first brave roleplayers and GMs to travel to the legendary Boar probably couldn’t have imagined how the world would look in 2021\, but the spirit of their adventures will live on — virtually! \nWe’ll host a virtual raffle for awesome goodies from the RTR vault! A $5 donation toward RTR’s operating fund earns your first raffle entry\, with extra entries for just $1!
URL:https://raleigh-tabletop.org/event/tales-of-the-crimson-boar-xi-incredible-discoveries/
LOCATION:Online event
CATEGORIES:The Crimson Boar
ATTACH;FMTTYPE=image/jpeg:https://raleigh-tabletop.org/wp-content/uploads/2020/12/crimson-boar.jpg
END:VEVENT
END:VCALENDAR