BEGIN:VCALENDAR
VERSION:2.0
PRODID:-//Raleigh Tabletop RPGs - ECPv6.15.11//NONSGML v1.0//EN
CALSCALE:GREGORIAN
METHOD:PUBLISH
X-ORIGINAL-URL:https://raleigh-tabletop.org
X-WR-CALDESC:Events for Raleigh Tabletop RPGs
REFRESH-INTERVAL;VALUE=DURATION:PT1H
X-Robots-Tag:noindex
X-PUBLISHED-TTL:PT1H
BEGIN:VTIMEZONE
TZID:America/New_York
BEGIN:DAYLIGHT
TZOFFSETFROM:-0500
TZOFFSETTO:-0400
TZNAME:EDT
DTSTART:20200308T070000
END:DAYLIGHT
BEGIN:STANDARD
TZOFFSETFROM:-0400
TZOFFSETTO:-0500
TZNAME:EST
DTSTART:20201101T060000
END:STANDARD
BEGIN:DAYLIGHT
TZOFFSETFROM:-0500
TZOFFSETTO:-0400
TZNAME:EDT
DTSTART:20210314T070000
END:DAYLIGHT
BEGIN:STANDARD
TZOFFSETFROM:-0400
TZOFFSETTO:-0500
TZNAME:EST
DTSTART:20211107T060000
END:STANDARD
BEGIN:DAYLIGHT
TZOFFSETFROM:-0500
TZOFFSETTO:-0400
TZNAME:EDT
DTSTART:20220313T070000
END:DAYLIGHT
BEGIN:STANDARD
TZOFFSETFROM:-0400
TZOFFSETTO:-0500
TZNAME:EST
DTSTART:20221106T060000
END:STANDARD
END:VTIMEZONE
BEGIN:VEVENT
DTSTART;TZID=America/New_York:20210723T183000
DTEND;TZID=America/New_York:20210723T230000
DTSTAMP:20260423T212514
CREATED:20210701T210622Z
LAST-MODIFIED:20210701T210622Z
UID:524-1627065000-1627081200@raleigh-tabletop.org
SUMMARY:The Contingent Season 8: Session Two
DESCRIPTION:The big apple balances on the edge of a knife.\nAn uneasy peace is threatened by a looming terror.\nSome things are inevitable. \nIt’s been nearly two years now since the incident at Hearst Tower that changed the Contingent forever. In the aftermath\, the organization has managed to pull itself back together\, repairing the links between its scattered Divisions and building fledgling alliances within New York City. But unseen forces are moving\, and a new threat is rising from the shadows. With an uneasy peace in the city\, will the Contingent be able to pull together the forces needed to save their home from the evil beneath? \nCan you breathe on the candle before the dying of the light?\nOr is New York in for a dead reckoning? \nOP Link: https://the-contingent.obsidianportal.com/dashboard
URL:https://raleigh-tabletop.org/event/the-contingent-season-8-session-two/
LOCATION:Online event
CATEGORIES:Club Play,The Contingent
ATTACH;FMTTYPE=image/png:https://raleigh-tabletop.org/wp-content/uploads/2020/12/contingent.png
END:VEVENT
BEGIN:VEVENT
DTSTART;TZID=America/New_York:20210709T183000
DTEND;TZID=America/New_York:20210709T230000
DTSTAMP:20260423T212514
CREATED:20210701T210452Z
LAST-MODIFIED:20210701T210452Z
UID:522-1625855400-1625871600@raleigh-tabletop.org
SUMMARY:The Contingent Season 8: Session One
DESCRIPTION:The big apple balances on the edge of a knife.\nAn uneasy peace is threatened by a looming terror.\nSome things are inevitable. \nIt’s been nearly two years now since the incident at Hearst Tower that changed the Contingent forever. In the aftermath\, the organization has managed to pull itself back together\, repairing the links between its scattered Divisions and building fledgling alliances within New York City. But unseen forces are moving\, and a new threat is rising from the shadows. With an uneasy peace in the city\, will the Contingent be able to pull together the forces needed to save their home from the evil beneath? \nCan you breathe on the candle before the dying of the light?\nOr is New York in for a dead reckoning? \nOP Link: https://the-contingent.obsidianportal.com/dashboard
URL:https://raleigh-tabletop.org/event/the-contingent-season-8-session-one/
LOCATION:Online event
CATEGORIES:Club Play,The Contingent
ATTACH;FMTTYPE=image/png:https://raleigh-tabletop.org/wp-content/uploads/2020/12/contingent.png
END:VEVENT
BEGIN:VEVENT
DTSTART;TZID=America/New_York:20210702T183000
DTEND;TZID=America/New_York:20210702T230000
DTSTAMP:20260423T212514
CREATED:20210701T205559Z
LAST-MODIFIED:20210701T205559Z
UID:518-1625250600-1625266800@raleigh-tabletop.org
SUMMARY:The Contingent Season 8: Session Zero
DESCRIPTION:The big apple balances on the edge of a knife.\nAn uneasy peace is threatened by a looming terror.\nSome things are inevitable. \nIt’s been nearly two years now since the incident at Hearst Tower that changed the Contingent forever. In the aftermath\, the organization has managed to pull itself back together\, repairing the links between its scattered Divisions and building fledgling alliances within New York City. But unseen forces are moving\, and a new threat is rising from the shadows. With an uneasy peace in the city\, will the Contingent be able to pull together the forces needed to save their home from the evil beneath? \nCan you breathe on the candle before the dying of the light?\nOr is New York in for a dead reckoning? \nOP Link: https://the-contingent.obsidianportal.com/dashboard
URL:https://raleigh-tabletop.org/event/the-contingent-season-8-session-zero/
LOCATION:Online event
CATEGORIES:Club Play,The Contingent
ATTACH;FMTTYPE=image/png:https://raleigh-tabletop.org/wp-content/uploads/2020/12/contingent.png
END:VEVENT
END:VCALENDAR