BEGIN:VCALENDAR
VERSION:2.0
PRODID:-//Raleigh Tabletop RPGs - ECPv6.15.11//NONSGML v1.0//EN
CALSCALE:GREGORIAN
METHOD:PUBLISH
X-ORIGINAL-URL:https://raleigh-tabletop.org
X-WR-CALDESC:Events for Raleigh Tabletop RPGs
REFRESH-INTERVAL;VALUE=DURATION:PT1H
X-Robots-Tag:noindex
X-PUBLISHED-TTL:PT1H
BEGIN:VTIMEZONE
TZID:America/New_York
BEGIN:DAYLIGHT
TZOFFSETFROM:-0500
TZOFFSETTO:-0400
TZNAME:EDT
DTSTART:20200308T070000
END:DAYLIGHT
BEGIN:STANDARD
TZOFFSETFROM:-0400
TZOFFSETTO:-0500
TZNAME:EST
DTSTART:20201101T060000
END:STANDARD
BEGIN:DAYLIGHT
TZOFFSETFROM:-0500
TZOFFSETTO:-0400
TZNAME:EDT
DTSTART:20210314T070000
END:DAYLIGHT
BEGIN:STANDARD
TZOFFSETFROM:-0400
TZOFFSETTO:-0500
TZNAME:EST
DTSTART:20211107T060000
END:STANDARD
BEGIN:DAYLIGHT
TZOFFSETFROM:-0500
TZOFFSETTO:-0400
TZNAME:EDT
DTSTART:20220313T070000
END:DAYLIGHT
BEGIN:STANDARD
TZOFFSETFROM:-0400
TZOFFSETTO:-0500
TZNAME:EST
DTSTART:20221106T060000
END:STANDARD
BEGIN:DAYLIGHT
TZOFFSETFROM:-0500
TZOFFSETTO:-0400
TZNAME:EDT
DTSTART:20230312T070000
END:DAYLIGHT
BEGIN:STANDARD
TZOFFSETFROM:-0400
TZOFFSETTO:-0500
TZNAME:EST
DTSTART:20231105T060000
END:STANDARD
END:VTIMEZONE
BEGIN:VEVENT
DTSTART;TZID=America/New_York:20220923T080000
DTEND;TZID=America/New_York:20220923T170000
DTSTAMP:20260423T200538
CREATED:20220614T143602Z
LAST-MODIFIED:20220614T143602Z
UID:754-1663920000-1663952400@raleigh-tabletop.org
SUMMARY:The Contingent Season 9: Be Not Afraid\, Session 6
DESCRIPTION:A thin line of mortal investigators is all that stands between the innocents of this world and the dark shadows that threaten to blot out the light of hope. Will evil prevail tonight\, or will we survive to see another day? \nThe Death-lord Phario has been defeated\, and the Contingent’s long-missing Head of Logistics has returned\, but all is not well at CubeSmart. A new threat is brewing\, and everyone wants to get their hands on the means to beat it. If the Contingent doesn’t rise to the challenge\, someone more sinister certainly will. No matter what happens\, the world may never be the same…
URL:https://raleigh-tabletop.org/event/the-contingent-season-9-be-not-afraid-session-6/
LOCATION:Online event
CATEGORIES:Club Play,The Contingent
ATTACH;FMTTYPE=image/png:https://raleigh-tabletop.org/wp-content/uploads/2022/06/contingent_S9.png
END:VEVENT
BEGIN:VEVENT
DTSTART;TZID=America/New_York:20220909T183000
DTEND;TZID=America/New_York:20220909T223000
DTSTAMP:20260423T200538
CREATED:20220614T143706Z
LAST-MODIFIED:20220614T143706Z
UID:756-1662748200-1662762600@raleigh-tabletop.org
SUMMARY:The Contingent Season 9: Be Not Afraid\, Session 5
DESCRIPTION:A thin line of mortal investigators is all that stands between the innocents of this world and the dark shadows that threaten to blot out the light of hope. Will evil prevail tonight\, or will we survive to see another day? \nThe Death-lord Phario has been defeated\, and the Contingent’s long-missing Head of Logistics has returned\, but all is not well at CubeSmart. A new threat is brewing\, and everyone wants to get their hands on the means to beat it. If the Contingent doesn’t rise to the challenge\, someone more sinister certainly will. No matter what happens\, the world may never be the same…
URL:https://raleigh-tabletop.org/event/the-contingent-season-9-be-not-afraid-session-5-2/
LOCATION:Online event
CATEGORIES:Club Play,The Contingent
ATTACH;FMTTYPE=image/png:https://raleigh-tabletop.org/wp-content/uploads/2022/06/contingent_S9.png
END:VEVENT
BEGIN:VEVENT
DTSTART;TZID=America/New_York:20220819T183000
DTEND;TZID=America/New_York:20220819T223000
DTSTAMP:20260423T200538
CREATED:20220614T143316Z
LAST-MODIFIED:20220614T143316Z
UID:750-1660933800-1660948200@raleigh-tabletop.org
SUMMARY:The Contingent Season 9: Be Not Afraid\, Session 4
DESCRIPTION:A thin line of mortal investigators is all that stands between the innocents of this world and the dark shadows that threaten to blot out the light of hope. Will evil prevail tonight\, or will we survive to see another day? \nThe Death-lord Phario has been defeated\, and the Contingent’s long-missing Head of Logistics has returned\, but all is not well at CubeSmart. A new threat is brewing\, and everyone wants to get their hands on the means to beat it. If the Contingent doesn’t rise to the challenge\, someone more sinister certainly will. No matter what happens\, the world may never be the same…
URL:https://raleigh-tabletop.org/event/the-contingent-season-9-be-not-afraid-session-4/
LOCATION:Online event
CATEGORIES:Club Play,The Contingent
ATTACH;FMTTYPE=image/png:https://raleigh-tabletop.org/wp-content/uploads/2022/06/contingent_S9.png
END:VEVENT
BEGIN:VEVENT
DTSTART;TZID=America/New_York:20220805T183000
DTEND;TZID=America/New_York:20220805T223000
DTSTAMP:20260423T200538
CREATED:20220614T143216Z
LAST-MODIFIED:20220614T143216Z
UID:748-1659724200-1659738600@raleigh-tabletop.org
SUMMARY:The Contingent Season 9: Be Not Afraid\, Session 3
DESCRIPTION:A thin line of mortal investigators is all that stands between the innocents of this world and the dark shadows that threaten to blot out the light of hope. Will evil prevail tonight\, or will we survive to see another day? \nThe Death-lord Phario has been defeated\, and the Contingent’s long-missing Head of Logistics has returned\, but all is not well at CubeSmart. A new threat is brewing\, and everyone wants to get their hands on the means to beat it. If the Contingent doesn’t rise to the challenge\, someone more sinister certainly will. No matter what happens\, the world may never be the same…
URL:https://raleigh-tabletop.org/event/the-contingent-season-9-be-not-afraid-session-3/
LOCATION:Online event
CATEGORIES:Club Play,The Contingent
ATTACH;FMTTYPE=image/png:https://raleigh-tabletop.org/wp-content/uploads/2022/06/contingent_S9.png
END:VEVENT
BEGIN:VEVENT
DTSTART;TZID=America/New_York:20220722T183000
DTEND;TZID=America/New_York:20220722T223000
DTSTAMP:20260423T200538
CREATED:20220614T143108Z
LAST-MODIFIED:20220614T143108Z
UID:746-1658514600-1658529000@raleigh-tabletop.org
SUMMARY:The Contingent Season 9: Be Not Afraid\, Session 2
DESCRIPTION:A thin line of mortal investigators is all that stands between the innocents of this world and the dark shadows that threaten to blot out the light of hope. Will evil prevail tonight\, or will we survive to see another day? \nThe Death-lord Phario has been defeated\, and the Contingent’s long-missing Head of Logistics has returned\, but all is not well at CubeSmart. A new threat is brewing\, and everyone wants to get their hands on the means to beat it. If the Contingent doesn’t rise to the challenge\, someone more sinister certainly will. No matter what happens\, the world may never be the same…
URL:https://raleigh-tabletop.org/event/the-contingent-season-9-be-not-afraid-session-2/
LOCATION:Online event
CATEGORIES:Club Play,The Contingent
ATTACH;FMTTYPE=image/png:https://raleigh-tabletop.org/wp-content/uploads/2022/06/contingent_S9.png
END:VEVENT
BEGIN:VEVENT
DTSTART;TZID=America/New_York:20220708T183000
DTEND;TZID=America/New_York:20220708T223000
DTSTAMP:20260423T200538
CREATED:20220614T142948Z
LAST-MODIFIED:20220614T142948Z
UID:744-1657305000-1657319400@raleigh-tabletop.org
SUMMARY:The Contingent Season 9: Be Not Afraid\, Session 1
DESCRIPTION:A thin line of mortal investigators is all that stands between the innocents of this world and the dark shadows that threaten to blot out the light of hope. Will evil prevail tonight\, or will we survive to see another day? \nThe Death-lord Phario has been defeated\, and the Contingent’s long-missing Head of Logistics has returned\, but all is not well at CubeSmart. A new threat is brewing\, and everyone wants to get their hands on the means to beat it. If the Contingent doesn’t rise to the challenge\, someone more sinister certainly will. No matter what happens\, the world may never be the same…
URL:https://raleigh-tabletop.org/event/the-contingent-season-9-be-not-afraid-session-1/
LOCATION:Online event
CATEGORIES:Club Play,The Contingent
ATTACH;FMTTYPE=image/png:https://raleigh-tabletop.org/wp-content/uploads/2022/06/contingent_S9.png
END:VEVENT
BEGIN:VEVENT
DTSTART;TZID=America/New_York:20220701T183000
DTEND;TZID=America/New_York:20220701T223000
DTSTAMP:20260423T200538
CREATED:20220614T142807Z
LAST-MODIFIED:20220614T142807Z
UID:741-1656700200-1656714600@raleigh-tabletop.org
SUMMARY:The Contingent Season 9: Be Not Afraid\, Session 0
DESCRIPTION:A thin line of mortal investigators is all that stands between the innocents of this world and the dark shadows that threaten to blot out the light of hope. Will evil prevail tonight\, or will we survive to see another day? \nThe Death-lord Phario has been defeated\, and the Contingent’s long-missing Head of Logistics has returned\, but all is not well at CubeSmart. A new threat is brewing\, and everyone wants to get their hands on the means to beat it. If the Contingent doesn’t rise to the challenge\, someone more sinister certainly will. No matter what happens\, the world may never be the same…
URL:https://raleigh-tabletop.org/event/the-contingent-season-9-be-not-afraid-session-0/
LOCATION:Online event
CATEGORIES:Club Play,The Contingent
ATTACH;FMTTYPE=image/png:https://raleigh-tabletop.org/wp-content/uploads/2022/06/contingent_S9.png
END:VEVENT
BEGIN:VEVENT
DTSTART;TZID=America/New_York:20220614T080000
DTEND;TZID=America/New_York:20220614T170000
DTSTAMP:20260423T200538
CREATED:20220614T143428Z
LAST-MODIFIED:20220614T143428Z
UID:752-1655193600-1655226000@raleigh-tabletop.org
SUMMARY:The Contingent Season 9: Be Not Afraid\, Session 5
DESCRIPTION:A thin line of mortal investigators is all that stands between the innocents of this world and the dark shadows that threaten to blot out the light of hope. Will evil prevail tonight\, or will we survive to see another day? \nThe Death-lord Phario has been defeated\, and the Contingent’s long-missing Head of Logistics has returned\, but all is not well at CubeSmart. A new threat is brewing\, and everyone wants to get their hands on the means to beat it. If the Contingent doesn’t rise to the challenge\, someone more sinister certainly will. No matter what happens\, the world may never be the same…
URL:https://raleigh-tabletop.org/event/the-contingent-season-9-be-not-afraid-session-5/
LOCATION:Online event
CATEGORIES:Club Play,The Contingent
ATTACH;FMTTYPE=image/png:https://raleigh-tabletop.org/wp-content/uploads/2022/06/contingent_S9.png
END:VEVENT
BEGIN:VEVENT
DTSTART;TZID=America/New_York:20210924T183000
DTEND;TZID=America/New_York:20210924T230000
DTSTAMP:20260423T200538
CREATED:20210701T211814Z
LAST-MODIFIED:20210701T211814Z
UID:534-1632508200-1632524400@raleigh-tabletop.org
SUMMARY:The Contingent Season 8: Session Six
DESCRIPTION:The big apple balances on the edge of a knife.\nAn uneasy peace is threatened by a looming terror.\nSome things are inevitable. \nIt’s been nearly two years now since the incident at Hearst Tower that changed the Contingent forever. In the aftermath\, the organization has managed to pull itself back together\, repairing the links between its scattered Divisions and building fledgling alliances within New York City. But unseen forces are moving\, and a new threat is rising from the shadows. With an uneasy peace in the city\, will the Contingent be able to pull together the forces needed to save their home from the evil beneath? \nCan you breathe on the candle before the dying of the light?\nOr is New York in for a dead reckoning? \nOP Link: https://the-contingent.obsidianportal.com/dashboard
URL:https://raleigh-tabletop.org/event/the-contingent-season-8-session-six/
LOCATION:Online event
CATEGORIES:Club Play,The Contingent
ATTACH;FMTTYPE=image/png:https://raleigh-tabletop.org/wp-content/uploads/2020/12/contingent.png
END:VEVENT
BEGIN:VEVENT
DTSTART;TZID=America/New_York:20210910T183000
DTEND;TZID=America/New_York:20210910T230000
DTSTAMP:20260423T200538
CREATED:20210701T211642Z
LAST-MODIFIED:20210701T211642Z
UID:532-1631298600-1631314800@raleigh-tabletop.org
SUMMARY:The Contingent Season 8: Session Five
DESCRIPTION:The big apple balances on the edge of a knife.\nAn uneasy peace is threatened by a looming terror.\nSome things are inevitable. \nIt’s been nearly two years now since the incident at Hearst Tower that changed the Contingent forever. In the aftermath\, the organization has managed to pull itself back together\, repairing the links between its scattered Divisions and building fledgling alliances within New York City. But unseen forces are moving\, and a new threat is rising from the shadows. With an uneasy peace in the city\, will the Contingent be able to pull together the forces needed to save their home from the evil beneath? \nCan you breathe on the candle before the dying of the light?\nOr is New York in for a dead reckoning? \nOP Link: https://the-contingent.obsidianportal.com/dashboard
URL:https://raleigh-tabletop.org/event/the-contingent-season-8-session-five/
LOCATION:Online event
CATEGORIES:Club Play,The Contingent
ATTACH;FMTTYPE=image/png:https://raleigh-tabletop.org/wp-content/uploads/2020/12/contingent.png
END:VEVENT
BEGIN:VEVENT
DTSTART;TZID=America/New_York:20210827T183000
DTEND;TZID=America/New_York:20210827T230000
DTSTAMP:20260423T200538
CREATED:20210701T211433Z
LAST-MODIFIED:20210701T211433Z
UID:530-1630089000-1630105200@raleigh-tabletop.org
SUMMARY:The Contingent Season 8: Session Four
DESCRIPTION:The big apple balances on the edge of a knife.\nAn uneasy peace is threatened by a looming terror.\nSome things are inevitable. \nIt’s been nearly two years now since the incident at Hearst Tower that changed the Contingent forever. In the aftermath\, the organization has managed to pull itself back together\, repairing the links between its scattered Divisions and building fledgling alliances within New York City. But unseen forces are moving\, and a new threat is rising from the shadows. With an uneasy peace in the city\, will the Contingent be able to pull together the forces needed to save their home from the evil beneath? \nCan you breathe on the candle before the dying of the light?\nOr is New York in for a dead reckoning? \nOP Link: https://the-contingent.obsidianportal.com/dashboard
URL:https://raleigh-tabletop.org/event/the-contingent-season-8-session-four/
LOCATION:Online event
CATEGORIES:Club Play,The Contingent
ATTACH;FMTTYPE=image/png:https://raleigh-tabletop.org/wp-content/uploads/2020/12/contingent.png
END:VEVENT
BEGIN:VEVENT
DTSTART;TZID=America/New_York:20210813T183000
DTEND;TZID=America/New_York:20210813T230000
DTSTAMP:20260423T200538
CREATED:20210701T211241Z
LAST-MODIFIED:20210701T211241Z
UID:528-1628879400-1628895600@raleigh-tabletop.org
SUMMARY:The Contingent Season 8: Session Three
DESCRIPTION:The big apple balances on the edge of a knife.\nAn uneasy peace is threatened by a looming terror.\nSome things are inevitable. \nIt’s been nearly two years now since the incident at Hearst Tower that changed the Contingent forever. In the aftermath\, the organization has managed to pull itself back together\, repairing the links between its scattered Divisions and building fledgling alliances within New York City. But unseen forces are moving\, and a new threat is rising from the shadows. With an uneasy peace in the city\, will the Contingent be able to pull together the forces needed to save their home from the evil beneath? \nCan you breathe on the candle before the dying of the light?\nOr is New York in for a dead reckoning? \nOP Link: https://the-contingent.obsidianportal.com/dashboard
URL:https://raleigh-tabletop.org/event/the-contingent-season-8-session-three/
LOCATION:Online event
CATEGORIES:Club Play,The Contingent
ATTACH;FMTTYPE=image/png:https://raleigh-tabletop.org/wp-content/uploads/2020/12/contingent.png
END:VEVENT
BEGIN:VEVENT
DTSTART;TZID=America/New_York:20210723T183000
DTEND;TZID=America/New_York:20210723T230000
DTSTAMP:20260423T200538
CREATED:20210701T210622Z
LAST-MODIFIED:20210701T210622Z
UID:524-1627065000-1627081200@raleigh-tabletop.org
SUMMARY:The Contingent Season 8: Session Two
DESCRIPTION:The big apple balances on the edge of a knife.\nAn uneasy peace is threatened by a looming terror.\nSome things are inevitable. \nIt’s been nearly two years now since the incident at Hearst Tower that changed the Contingent forever. In the aftermath\, the organization has managed to pull itself back together\, repairing the links between its scattered Divisions and building fledgling alliances within New York City. But unseen forces are moving\, and a new threat is rising from the shadows. With an uneasy peace in the city\, will the Contingent be able to pull together the forces needed to save their home from the evil beneath? \nCan you breathe on the candle before the dying of the light?\nOr is New York in for a dead reckoning? \nOP Link: https://the-contingent.obsidianportal.com/dashboard
URL:https://raleigh-tabletop.org/event/the-contingent-season-8-session-two/
LOCATION:Online event
CATEGORIES:Club Play,The Contingent
ATTACH;FMTTYPE=image/png:https://raleigh-tabletop.org/wp-content/uploads/2020/12/contingent.png
END:VEVENT
BEGIN:VEVENT
DTSTART;TZID=America/New_York:20210709T183000
DTEND;TZID=America/New_York:20210709T230000
DTSTAMP:20260423T200538
CREATED:20210701T210452Z
LAST-MODIFIED:20210701T210452Z
UID:522-1625855400-1625871600@raleigh-tabletop.org
SUMMARY:The Contingent Season 8: Session One
DESCRIPTION:The big apple balances on the edge of a knife.\nAn uneasy peace is threatened by a looming terror.\nSome things are inevitable. \nIt’s been nearly two years now since the incident at Hearst Tower that changed the Contingent forever. In the aftermath\, the organization has managed to pull itself back together\, repairing the links between its scattered Divisions and building fledgling alliances within New York City. But unseen forces are moving\, and a new threat is rising from the shadows. With an uneasy peace in the city\, will the Contingent be able to pull together the forces needed to save their home from the evil beneath? \nCan you breathe on the candle before the dying of the light?\nOr is New York in for a dead reckoning? \nOP Link: https://the-contingent.obsidianportal.com/dashboard
URL:https://raleigh-tabletop.org/event/the-contingent-season-8-session-one/
LOCATION:Online event
CATEGORIES:Club Play,The Contingent
ATTACH;FMTTYPE=image/png:https://raleigh-tabletop.org/wp-content/uploads/2020/12/contingent.png
END:VEVENT
BEGIN:VEVENT
DTSTART;TZID=America/New_York:20210702T183000
DTEND;TZID=America/New_York:20210702T230000
DTSTAMP:20260423T200538
CREATED:20210701T205559Z
LAST-MODIFIED:20210701T205559Z
UID:518-1625250600-1625266800@raleigh-tabletop.org
SUMMARY:The Contingent Season 8: Session Zero
DESCRIPTION:The big apple balances on the edge of a knife.\nAn uneasy peace is threatened by a looming terror.\nSome things are inevitable. \nIt’s been nearly two years now since the incident at Hearst Tower that changed the Contingent forever. In the aftermath\, the organization has managed to pull itself back together\, repairing the links between its scattered Divisions and building fledgling alliances within New York City. But unseen forces are moving\, and a new threat is rising from the shadows. With an uneasy peace in the city\, will the Contingent be able to pull together the forces needed to save their home from the evil beneath? \nCan you breathe on the candle before the dying of the light?\nOr is New York in for a dead reckoning? \nOP Link: https://the-contingent.obsidianportal.com/dashboard
URL:https://raleigh-tabletop.org/event/the-contingent-season-8-session-zero/
LOCATION:Online event
CATEGORIES:Club Play,The Contingent
ATTACH;FMTTYPE=image/png:https://raleigh-tabletop.org/wp-content/uploads/2020/12/contingent.png
END:VEVENT
END:VCALENDAR