BEGIN:VCALENDAR
VERSION:2.0
PRODID:-//Raleigh Tabletop RPGs - ECPv6.15.11//NONSGML v1.0//EN
CALSCALE:GREGORIAN
METHOD:PUBLISH
X-WR-CALNAME:Raleigh Tabletop RPGs
X-ORIGINAL-URL:https://raleigh-tabletop.org
X-WR-CALDESC:Events for Raleigh Tabletop RPGs
REFRESH-INTERVAL;VALUE=DURATION:PT1H
X-Robots-Tag:noindex
X-PUBLISHED-TTL:PT1H
BEGIN:VTIMEZONE
TZID:America/New_York
BEGIN:DAYLIGHT
TZOFFSETFROM:-0500
TZOFFSETTO:-0400
TZNAME:EDT
DTSTART:20200308T070000
END:DAYLIGHT
BEGIN:STANDARD
TZOFFSETFROM:-0400
TZOFFSETTO:-0500
TZNAME:EST
DTSTART:20201101T060000
END:STANDARD
BEGIN:DAYLIGHT
TZOFFSETFROM:-0500
TZOFFSETTO:-0400
TZNAME:EDT
DTSTART:20210314T070000
END:DAYLIGHT
BEGIN:STANDARD
TZOFFSETFROM:-0400
TZOFFSETTO:-0500
TZNAME:EST
DTSTART:20211107T060000
END:STANDARD
BEGIN:DAYLIGHT
TZOFFSETFROM:-0500
TZOFFSETTO:-0400
TZNAME:EDT
DTSTART:20220313T070000
END:DAYLIGHT
BEGIN:STANDARD
TZOFFSETFROM:-0400
TZOFFSETTO:-0500
TZNAME:EST
DTSTART:20221106T060000
END:STANDARD
BEGIN:DAYLIGHT
TZOFFSETFROM:-0500
TZOFFSETTO:-0400
TZNAME:EDT
DTSTART:20230312T070000
END:DAYLIGHT
BEGIN:STANDARD
TZOFFSETFROM:-0400
TZOFFSETTO:-0500
TZNAME:EST
DTSTART:20231105T060000
END:STANDARD
END:VTIMEZONE
BEGIN:VEVENT
DTSTART;TZID=America/New_York:20221218T140000
DTEND;TZID=America/New_York:20221218T180000
DTSTAMP:20260423T212146
CREATED:20221031T163147Z
LAST-MODIFIED:20221031T163147Z
UID:824-1671372000-1671386400@raleigh-tabletop.org
SUMMARY:Seek the Stars! - It's The End of All Worlds If We Blow It
DESCRIPTION:SEEK THE STARS! SEASON 5: “OMNIDIMENSIONAL STARSOJOURN”\nThe year: 2066. The place: space. The mission: save the galaxy from the weirdest\, most confounding\, most absurd threats imaginable! Join Expeditionary Team Delta of the Space Patrol on a high-action\, high-comedy (but absolutely not high-brow) interstellar romp through the Orion Sector. Become the heroes in your very own hallucinated story! Save the very nature of parties itself! Resurrect the long-dead for fun and profit! Reshape the fundamental facts of reality itself?! And maybe even figure out how to save the galaxy from the impending threat of certain doom. . . \nWelcome to the Team\, Space Patroller! Learn more about your mission here. \nDownload the Season 5 Player Packet \n\nIMPORTANT NOTE\nDue to the ongoing Coronavirus epidemic\, RTR’s policies on social distancing\, and playerbase/FM preferences\, Season 5 of StS! will be played in a mixture of IRL sessions (hosted at Gamer’s Geekery & Tavern in Cary\, NC) and virtually through a combination of the Jit.si online videocall software\, the Roll20 Virtual Tabletop\, and our Discord text chat rooms\, where we’ve installed a die-roller bot and other helpful customizations. Each week\, players will sign up through Meetup.com\, tell us what table they’d like to join through a survey\, and then they’ll receive more details from the Fatemasters later that week. \nDon’t forget to join RTR’s Discord for all the latest Seek the Stars! news\, Q&A\, and in-character chat!\nRTR’s Official Discord
URL:https://raleigh-tabletop.org/event/seek-the-stars-its-the-end-of-all-worlds-if-we-blow-it/
LOCATION:Gamers Geekery and Tavern\, 107 Edinburgh S Dr. #213\, Cary\, NC\, 27511\, United States
CATEGORIES:Club Play,StS!
ATTACH;FMTTYPE=image/png:https://raleigh-tabletop.org/wp-content/uploads/2021/03/STS_Banner_v3-01.png
END:VEVENT
BEGIN:VEVENT
DTSTART;TZID=America/New_York:20221127T140000
DTEND;TZID=America/New_York:20221127T180000
DTSTAMP:20260423T212146
CREATED:20221031T162944Z
LAST-MODIFIED:20221031T162944Z
UID:822-1669557600-1669572000@raleigh-tabletop.org
SUMMARY:Seek the Stars! - Recovering Our Nonsenses
DESCRIPTION:SEEK THE STARS! SEASON 5: “OMNIDIMENSIONAL STARSOJOURN”\nThe year: 2066. The place: space. The mission: save the galaxy from the weirdest\, most confounding\, most absurd threats imaginable! Join Expeditionary Team Delta of the Space Patrol on a high-action\, high-comedy (but absolutely not high-brow) interstellar romp through the Orion Sector. Become the heroes in your very own hallucinated story! Save the very nature of parties itself! Resurrect the long-dead for fun and profit! Reshape the fundamental facts of reality itself?! And maybe even figure out how to save the galaxy from the impending threat of certain doom. . . \nWelcome to the Team\, Space Patroller! Learn more about your mission here. \nDownload the Season 5 Player Packet \n\nIMPORTANT NOTE\nDue to the ongoing Coronavirus epidemic\, RTR’s policies on social distancing\, and playerbase/FM preferences\, Season 5 of StS! will be played in a mixture of IRL sessions (hosted at Gamer’s Geekery & Tavern in Cary\, NC) and virtually through a combination of the Jit.si online videocall software\, the Roll20 Virtual Tabletop\, and our Discord text chat rooms\, where we’ve installed a die-roller bot and other helpful customizations. Each week\, players will sign up through Meetup.com\, tell us what table they’d like to join through a survey\, and then they’ll receive more details from the Fatemasters later that week. \nDon’t forget to join RTR’s Discord for all the latest Seek the Stars! news\, Q&A\, and in-character chat!\nRTR’s Official Discord
URL:https://raleigh-tabletop.org/event/seek-the-stars-recovering-our-nonsenses/
LOCATION:Gamers Geekery and Tavern\, 107 Edinburgh S Dr. #213\, Cary\, NC\, 27511\, United States
CATEGORIES:Club Play,StS!
ATTACH;FMTTYPE=image/png:https://raleigh-tabletop.org/wp-content/uploads/2021/03/STS_Banner_v3-01.png
END:VEVENT
BEGIN:VEVENT
DTSTART;TZID=America/New_York:20221120T140000
DTEND;TZID=America/New_York:20221120T180000
DTSTAMP:20260423T212146
CREATED:20221031T162735Z
LAST-MODIFIED:20221031T162735Z
UID:820-1668952800-1668967200@raleigh-tabletop.org
SUMMARY:Seek the Stars! - Friends in Mindblowing Places
DESCRIPTION:SEEK THE STARS! SEASON 5: “OMNIDIMENSIONAL STARSOJOURN”\nThe year: 2066. The place: space. The mission: save the galaxy from the weirdest\, most confounding\, most absurd threats imaginable! Join Expeditionary Team Delta of the Space Patrol on a high-action\, high-comedy (but absolutely not high-brow) interstellar romp through the Orion Sector. Become the heroes in your very own hallucinated story! Save the very nature of parties itself! Resurrect the long-dead for fun and profit! Reshape the fundamental facts of reality itself?! And maybe even figure out how to save the galaxy from the impending threat of certain doom. . . \nWelcome to the Team\, Space Patroller! Learn more about your mission here. \nDownload the Season 5 Player Packet \n\nIMPORTANT NOTE\nDue to the ongoing Coronavirus epidemic\, RTR’s policies on social distancing\, and playerbase/FM preferences\, Season 5 of StS! will be played in a mixture of IRL sessions (hosted at Gamer’s Geekery & Tavern in Cary\, NC) and virtually through a combination of the Jit.si online videocall software\, the Roll20 Virtual Tabletop\, and our Discord text chat rooms\, where we’ve installed a die-roller bot and other helpful customizations. Each week\, players will sign up through Meetup.com\, tell us what table they’d like to join through a survey\, and then they’ll receive more details from the Fatemasters later that week. \nDon’t forget to join RTR’s Discord for all the latest Seek the Stars! news\, Q&A\, and in-character chat!\nRTR’s Official Discord
URL:https://raleigh-tabletop.org/event/seek-the-stars-friends-in-mindblowing-places/
LOCATION:Gamers Geekery and Tavern\, 107 Edinburgh S Dr. #213\, Cary\, NC\, 27511\, United States
CATEGORIES:Club Play,StS!
ATTACH;FMTTYPE=image/png:https://raleigh-tabletop.org/wp-content/uploads/2021/03/STS_Banner_v3-01.png
END:VEVENT
BEGIN:VEVENT
DTSTART;TZID=America/New_York:20221106T140000
DTEND;TZID=America/New_York:20221106T180000
DTSTAMP:20260423T212146
CREATED:20221031T143552Z
LAST-MODIFIED:20221031T143552Z
UID:818-1667743200-1667757600@raleigh-tabletop.org
SUMMARY:Seek the Stars! "Portentous Occasions"
DESCRIPTION:SEEK THE STARS! SEASON 5: “OMNIDIMENSIONAL STARSOJOURN”\nThe year: 2066. The place: space. The mission: save the galaxy from the weirdest\, most confounding\, most absurd threats imaginable! Join Expeditionary Team Delta of the Space Patrol on a high-action\, high-comedy (but absolutely not high-brow) interstellar romp through the Orion Sector. Become the heroes in your very own hallucinated story! Save the very nature of parties itself! Resurrect the long-dead for fun and profit! Reshape the fundamental facts of reality itself?! And maybe even figure out how to save the galaxy from the impending threat of certain doom. . . \nWelcome to the Team\, Space Patroller! Learn more about your mission here. \nDownload the Season 5 Player Packet \n\n“A month into the mission to save everything and everyone we had ever known\, spirits were low and tensions were high. To say that we needed a break is a ludicrous understatement. So when twin opportunities presented themselves\, we couldn’t help but fling ourselves into them with wild abandon. Luckily\, we were able to retrieve most of ourselves by the end of the process\, though I do think one cadet never regained the ability to ignore the feeling of his tongue in his mouth.”\nDeltannals: Team Chronicle Vol. 3\, Ch. 8 \nIMPORTANT NOTE\nDue to the ongoing Coronavirus epidemic\, RTR’s policies on social distancing\, and playerbase/FM preferences\, Season 5 of StS! will be played in a mixture of IRL sessions (hosted at Gamer’s Geekery & Tavern in Cary\, NC) and virtually through a combination of the Jit.si online videocall software\, the Roll20 Virtual Tabletop\, and our Discord text chat rooms\, where we’ve installed a die-roller bot and other helpful customizations. Each week\, players will sign up through Meetup.com\, tell us what table they’d like to join through a survey\, and then they’ll receive more details from the Fatemasters later that week. \nDon’t forget to join RTR’s Discord for all the latest Seek the Stars! news\, Q&A\, and in-character chat!\nRTR’s Official Discord
URL:https://raleigh-tabletop.org/event/seek-the-stars-portentous-occasions/
LOCATION:Gamers Geekery and Tavern\, 107 Edinburgh S Dr. #213\, Cary\, NC\, 27511\, United States
CATEGORIES:Club Play,StS!
ATTACH;FMTTYPE=image/png:https://raleigh-tabletop.org/wp-content/uploads/2020/12/STS_Banner_v3-01.png
END:VEVENT
BEGIN:VEVENT
DTSTART;TZID=America/New_York:20221002T140000
DTEND;TZID=America/New_York:20221002T180000
DTSTAMP:20260423T212146
CREATED:20220925T183854Z
LAST-MODIFIED:20220925T184043Z
UID:805-1664719200-1664733600@raleigh-tabletop.org
SUMMARY:Seek the Stars! Season 5: "Omnidimensional Starsojourn" - Session Zero
DESCRIPTION:The year: 2066. The place: space. The mission: save the galaxy from the weirdest\, most confounding\, most absurd threats imaginable! Join Expeditionary Team Delta of the Space Patrol on a high-action\, high-comedy (but absolutely not high-brow) interstellar romp through the Orion Sector. Become the heroes in your very own hallucinated story! Save the very nature of parties itself! Resurrect the long-dead for fun and profit! Reshape the fundamental facts of reality itself?! And maybe even figure out how to save the galaxy from the impending threat of certain doom. . . \nWelcome to the Team\, Patroller! Learn more about your mission here. \nDownload the Season 5 Player Packet \n\n  \nWelcome back to the fifth and final season of RTR’s very own sci-fi comedy Semi-Organized Play campaign\, Seek the Stars! This year\, the intrepid Space Patrollers of Expeditionary Team Delta must sojourn into the depths of the maddening chaos of e-space to learn the secrets they’ll need to save everyone they’ve ever loved\, hated\, or just kind of felt “meh” toward! \nAt this special Session Zero\, players new and old will create and update characters for the new Season\, re-familiarize themselves with the Fate Condensed rules StS! uses\, and get an introduction (or re-introduction) to the wild and wacky Orion Sector setting of our game. Meet NPCs\, outfit your very own Space Hero to your heart’s content\, and play a short adventure to get the new Season going with a bang! Or maybe a bunch of bangs. . .
URL:https://raleigh-tabletop.org/event/seek-the-stars-session-zero/
LOCATION:Online event
CATEGORIES:Club Play,StS!
ATTACH;FMTTYPE=image/png:https://raleigh-tabletop.org/wp-content/uploads/2021/03/STS_Banner_v3-01.png
END:VEVENT
BEGIN:VEVENT
DTSTART;TZID=America/New_York:20210627T140000
DTEND;TZID=America/New_York:20210627T180000
DTSTAMP:20260423T212146
CREATED:20210429T194423Z
LAST-MODIFIED:20210429T194530Z
UID:481-1624802400-1624816800@raleigh-tabletop.org
SUMMARY:Seek the Stars! Season 4: "Certain Doom and Other Prophecies" - Session Six
DESCRIPTION:The year: 2065. The place: space. The mission: save the galaxy from the weirdest\, most confounding\, most *absurd* threats imaginable! Join Expeditionary Team Delta of the Space Patrol on a high-action\, high-comedy (but absolutely not high-brow) interstellar romp through the Orion Sector. Befriend unfathomable horrors from before time! Engage in totally legitimate rescue missions! Be the heart of the greatest party ever! Become a spaceship?! And maybe even figure out how to save the galaxy from the impending threat of certain doom. . .
URL:https://raleigh-tabletop.org/event/seek-the-stars-season-4-certain-doom-and-other-prophecies-session-six/
LOCATION:Online event
CATEGORIES:Club Play,StS!
ATTACH;FMTTYPE=image/png:https://raleigh-tabletop.org/wp-content/uploads/2021/03/STS_Banner_v3-01.png
END:VEVENT
BEGIN:VEVENT
DTSTART;TZID=America/New_York:20210613T140000
DTEND;TZID=America/New_York:20210613T180000
DTSTAMP:20260423T212146
CREATED:20210429T194223Z
LAST-MODIFIED:20210429T194223Z
UID:477-1623592800-1623607200@raleigh-tabletop.org
SUMMARY:Seek the Stars! Season 4: "Certain Doom and Other Prophecies" - Session Five
DESCRIPTION:The year: 2065. The place: space. The mission: save the galaxy from the weirdest\, most confounding\, most *absurd* threats imaginable! Join Expeditionary Team Delta of the Space Patrol on a high-action\, high-comedy (but absolutely not high-brow) interstellar romp through the Orion Sector. Befriend unfathomable horrors from before time! Engage in totally legitimate rescue missions! Be the heart of the greatest party ever! Become a spaceship?! And maybe even figure out how to save the galaxy from the impending threat of certain doom. . .
URL:https://raleigh-tabletop.org/event/seek-the-stars-season-4-certain-doom-and-other-prophecies-session-five/
LOCATION:Online event
CATEGORIES:Club Play,StS!
ATTACH;FMTTYPE=image/png:https://raleigh-tabletop.org/wp-content/uploads/2021/03/STS_Banner_v3-01.png
END:VEVENT
BEGIN:VEVENT
DTSTART;TZID=America/New_York:20210523T140000
DTEND;TZID=America/New_York:20210523T180000
DTSTAMP:20260423T212146
CREATED:20210429T193717Z
LAST-MODIFIED:20210429T193717Z
UID:471-1621778400-1621792800@raleigh-tabletop.org
SUMMARY:Seek the Stars! Season 4: "Certain Doom and Other Prophecies" - Session Four
DESCRIPTION:The year: 2065. The place: space. The mission: save the galaxy from the weirdest\, most confounding\, most *absurd* threats imaginable! Join Expeditionary Team Delta of the Space Patrol on a high-action\, high-comedy (but absolutely not high-brow) interstellar romp through the Orion Sector. Befriend unfathomable horrors from before time! Engage in totally legitimate rescue missions! Be the heart of the greatest party ever! Become a spaceship?! And maybe even figure out how to save the galaxy from the impending threat of certain doom. . .
URL:https://raleigh-tabletop.org/event/seek-the-stars-season-4-certain-doom-and-other-prophecies-session-four/
LOCATION:Online event
CATEGORIES:Club Play,StS!
ATTACH;FMTTYPE=image/png:https://raleigh-tabletop.org/wp-content/uploads/2021/03/STS_Banner_v3-01.png
END:VEVENT
BEGIN:VEVENT
DTSTART;TZID=America/New_York:20210509T140000
DTEND;TZID=America/New_York:20210509T180000
DTSTAMP:20260423T212146
CREATED:20210429T193402Z
LAST-MODIFIED:20210429T193402Z
UID:467-1620568800-1620583200@raleigh-tabletop.org
SUMMARY:Seek the Stars! Season 4: "Certain Doom and Other Prophecies" - Session Three
DESCRIPTION:The year: 2065. The place: space. The mission: save the galaxy from the weirdest\, most confounding\, most *absurd* threats imaginable! Join Expeditionary Team Delta of the Space Patrol on a high-action\, high-comedy (but absolutely not high-brow) interstellar romp through the Orion Sector. Befriend unfathomable horrors from before time! Engage in totally legitimate rescue missions! Be the heart of the greatest party ever! Become a spaceship?! And maybe even figure out how to save the galaxy from the impending threat of certain doom. . .
URL:https://raleigh-tabletop.org/event/seek-the-stars-season-4-certain-doom-and-other-prophecies-session-three/
LOCATION:Online event
CATEGORIES:Club Play,StS!
ATTACH;FMTTYPE=image/png:https://raleigh-tabletop.org/wp-content/uploads/2020/12/STS_Banner_v3-01.png
END:VEVENT
BEGIN:VEVENT
DTSTART;TZID=America/New_York:20210425T140000
DTEND;TZID=America/New_York:20210425T180000
DTSTAMP:20260423T212146
CREATED:20210219T181700Z
LAST-MODIFIED:20210219T181811Z
UID:432-1619359200-1619373600@raleigh-tabletop.org
SUMMARY:Seek the Stars! Season 4: "Certain Doom and Other Prophecies" - Session Two
DESCRIPTION:The year: 2065. The place: space. The mission: save the galaxy from the weirdest\, most confounding\, most *absurd* threats imaginable! Join Expeditionary Team Delta of the Space Patrol on a high-action\, high-comedy (but absolutely not high-brow) interstellar romp through the Orion Sector. Befriend unfathomable horrors from before time! Engage in totally legitimate rescue missions! Be the heart of the greatest party ever! Become a spaceship?! And maybe even figure out how to save the galaxy from the impending threat of certain doom. . . \nWelcome to the Team\, Patroller! Learn more about your mission here: https://seekthestars.obsidianportal.com/
URL:https://raleigh-tabletop.org/event/seek-the-stars-season-4-certain-doom-and-other-prophecies-session-two/
LOCATION:Online event
CATEGORIES:Club Play,StS!
ATTACH;FMTTYPE=image/png:https://raleigh-tabletop.org/wp-content/uploads/2020/12/STS_Banner_v3-01.png
END:VEVENT
BEGIN:VEVENT
DTSTART;TZID=America/New_York:20210411T140000
DTEND;TZID=America/New_York:20210411T180000
DTSTAMP:20260423T212146
CREATED:20210219T181523Z
LAST-MODIFIED:20210219T181812Z
UID:430-1618149600-1618164000@raleigh-tabletop.org
SUMMARY:Seek the Stars! Season 4: "Certain Doom and Other Prophecies" - Session One
DESCRIPTION:The year: 2065. The place: space. The mission: save the galaxy from the weirdest\, most confounding\, most *absurd* threats imaginable! Join Expeditionary Team Delta of the Space Patrol on a high-action\, high-comedy (but absolutely not high-brow) interstellar romp through the Orion Sector. Befriend unfathomable horrors from before time! Engage in totally legitimate rescue missions! Be the heart of the greatest party ever! Become a spaceship?! And maybe even figure out how to save the galaxy from the impending threat of certain doom. . . \nWelcome to the Team\, Patroller! Learn more about your mission here: https://seekthestars.obsidianportal.com/
URL:https://raleigh-tabletop.org/event/seek-the-stars-season-4-certain-doom-and-other-prophecies-session-one/
LOCATION:Online event
CATEGORIES:Club Play,StS!
ATTACH;FMTTYPE=image/png:https://raleigh-tabletop.org/wp-content/uploads/2020/12/STS_Banner_v3-01.png
END:VEVENT
BEGIN:VEVENT
DTSTART;TZID=America/New_York:20210404T140000
DTEND;TZID=America/New_York:20210404T180000
DTSTAMP:20260423T212146
CREATED:20210219T181223Z
LAST-MODIFIED:20210219T181812Z
UID:428-1617544800-1617559200@raleigh-tabletop.org
SUMMARY:Seek the Stars! Season 4: "Certain Doom and Other Prophecies" - Session Zero
DESCRIPTION:The year: 2065. The place: space. The mission: save the galaxy from the weirdest\, most confounding\, most *absurd* threats imaginable! Join Expeditionary Team Delta of the Space Patrol on a high-action\, high-comedy (but absolutely not high-brow) interstellar romp through the Orion Sector. Befriend unfathomable horrors from before time! Engage in totally legitimate rescue missions! Be the heart of the greatest party ever! Become a spaceship?! And maybe even figure out how to save the galaxy from the impending threat of certain doom. . . \nWelcome to the Team\, Patroller! Learn more about your mission here: https://seekthestars.obsidianportal.com/ \n \nWelcome back to the fourth season of RTR’s very own sci-fi comedy Semi-Organized Play campaign\, Seek the Stars! This year\, the intrepid Space Patrollers of Expeditionary Team Delta must plumb the galaxy and beyond to learn the secrets they’ll need to save everyone they’ve ever loved\, hated\, or just kind of felt “meh” toward! \nAt this special Session Zero\, players new and old will create and update characters for the new Season\, learning about the Fate Condensed rules StS! has moved to and getting an introduction (or re-introduction) to the wild and wacky Orion Sector setting of our game. Meet NPCs\, outfit your very own Space Hero to your heart’s content\, and play a short adventure to get the new Season going with a bang! Or maybe a bunch of bangs. . .
URL:https://raleigh-tabletop.org/event/seek-the-stars-season-4-certain-doom-and-other-prophecies-session-zero/
LOCATION:Online event
CATEGORIES:Club Play,StS!
ATTACH;FMTTYPE=image/png:https://raleigh-tabletop.org/wp-content/uploads/2020/12/STS_Banner_v3-01.png
END:VEVENT
END:VCALENDAR