BEGIN:VCALENDAR
VERSION:2.0
PRODID:-//Raleigh Tabletop RPGs - ECPv6.15.11//NONSGML v1.0//EN
CALSCALE:GREGORIAN
METHOD:PUBLISH
X-WR-CALNAME:Raleigh Tabletop RPGs
X-ORIGINAL-URL:https://raleigh-tabletop.org
X-WR-CALDESC:Events for Raleigh Tabletop RPGs
REFRESH-INTERVAL;VALUE=DURATION:PT1H
X-Robots-Tag:noindex
X-PUBLISHED-TTL:PT1H
BEGIN:VTIMEZONE
TZID:America/New_York
BEGIN:DAYLIGHT
TZOFFSETFROM:-0500
TZOFFSETTO:-0400
TZNAME:EDT
DTSTART:20230312T070000
END:DAYLIGHT
BEGIN:STANDARD
TZOFFSETFROM:-0400
TZOFFSETTO:-0500
TZNAME:EST
DTSTART:20231105T060000
END:STANDARD
BEGIN:DAYLIGHT
TZOFFSETFROM:-0500
TZOFFSETTO:-0400
TZNAME:EDT
DTSTART:20240310T070000
END:DAYLIGHT
BEGIN:STANDARD
TZOFFSETFROM:-0400
TZOFFSETTO:-0500
TZNAME:EST
DTSTART:20241103T060000
END:STANDARD
BEGIN:DAYLIGHT
TZOFFSETFROM:-0500
TZOFFSETTO:-0400
TZNAME:EDT
DTSTART:20250309T070000
END:DAYLIGHT
BEGIN:STANDARD
TZOFFSETFROM:-0400
TZOFFSETTO:-0500
TZNAME:EST
DTSTART:20251102T060000
END:STANDARD
END:VTIMEZONE
BEGIN:VEVENT
DTSTART;TZID=America/New_York:20240920T080000
DTEND;TZID=America/New_York:20240920T170000
DTSTAMP:20260423T173035
CREATED:20240627T021232Z
LAST-MODIFIED:20240627T021232Z
UID:1153-1726819200-1726851600@raleigh-tabletop.org
SUMMARY:Future Crisis Battle Brigade: Season 1\, Session 6
DESCRIPTION:Future Crisis Battle Brigade is a multi-GM\, many-Player Community Campaign run for members of Raleigh Tabletop RPGs using the Beam Saber TTRPG system. A descendant of the Forged in the Dark framework\, Beam Saber is a game of passionate\, dramatic mecha Pilots striving to survive a forever war waged by five massive factions\, the Sovereigns\, in a distant future. Working together in Squads\, the Players’ Pilots take on dangerous missions\, attain their goals by whatever means they decide\, and come together once more at their home base to recover and prepare for the next mission. \nSession 6 is our final session of season 1 and is split between an in-person Vanguard mission and an online Rearguard mission. \nVanguard location: Kitchen Table at Relish\nRearguard location: RTR’s Discord server
URL:https://raleigh-tabletop.org/event/future-crisis-battle-brigade-season-1-session-6/
LOCATION:The Kitchen Table at Relish\, 5629 Creedmoor Rd\, Raleigh\, NC\, 27612\, United States
CATEGORIES:Beam Saber,Club Play,Future Crisis Battle Brigade
ATTACH;FMTTYPE=image/png:https://raleigh-tabletop.org/wp-content/uploads/2024/06/BeamSaber_16x9-v2.png
END:VEVENT
BEGIN:VEVENT
DTSTART;TZID=America/New_York:20240913T173000
DTEND;TZID=America/New_York:20240913T230000
DTSTAMP:20260423T173035
CREATED:20240627T021123Z
LAST-MODIFIED:20240627T021123Z
UID:1151-1726248600-1726268400@raleigh-tabletop.org
SUMMARY:Future Crisis Battle Brigade: Season 1\, Session 5
DESCRIPTION:Future Crisis Battle Brigade is a multi-GM\, many-Player Community Campaign run for members of Raleigh Tabletop RPGs using the Beam Saber TTRPG system. A descendant of the Forged in the Dark framework\, Beam Saber is a game of passionate\, dramatic mecha Pilots striving to survive a forever war waged by five massive factions\, the Sovereigns\, in a distant future. Working together in Squads\, the Players’ Pilots take on dangerous missions\, attain their goals by whatever means they decide\, and come together once more at their home base to recover and prepare for the next mission. \nSession 5 is split between an in-person Vanguard mission and an online Rearguard mission.
URL:https://raleigh-tabletop.org/event/future-crisis-battle-brigade-season-1-session-5/
LOCATION:The Kitchen Table at Relish\, 5629 Creedmoor Rd\, Raleigh\, NC\, 27612\, United States
CATEGORIES:Beam Saber,Club Play,Future Crisis Battle Brigade
ATTACH;FMTTYPE=image/png:https://raleigh-tabletop.org/wp-content/uploads/2024/06/BeamSaber_16x9-v2.png
END:VEVENT
BEGIN:VEVENT
DTSTART;TZID=America/New_York:20240823T173000
DTEND;TZID=America/New_York:20240823T230000
DTSTAMP:20260423T173035
CREATED:20240627T020952Z
LAST-MODIFIED:20240627T020952Z
UID:1147-1724434200-1724454000@raleigh-tabletop.org
SUMMARY:Future Crisis Battle Brigade: Season 1\, Session 4
DESCRIPTION:Future Crisis Battle Brigade is a multi-GM\, many-Player Community Campaign run for members of Raleigh Tabletop RPGs using the Beam Saber TTRPG system. A descendant of the Forged in the Dark framework\, Beam Saber is a game of passionate\, dramatic mecha Pilots striving to survive a forever war waged by five massive factions\, the Sovereigns\, in a distant future. Working together in Squads\, the Players’ Pilots take on dangerous missions\, attain their goals by whatever means they decide\, and come together once more at their home base to recover and prepare for the next mission. \nSession 4 is a Downtime session which will take place at the Kitchen Table at Relish.
URL:https://raleigh-tabletop.org/event/future-crisis-battle-brigade-season-1-session-4/
LOCATION:The Kitchen Table at Relish\, 5629 Creedmoor Rd\, Raleigh\, NC\, 27612\, United States
CATEGORIES:Beam Saber,Club Play,Future Crisis Battle Brigade
ATTACH;FMTTYPE=image/png:https://raleigh-tabletop.org/wp-content/uploads/2024/06/BeamSaber_16x9-v2.png
END:VEVENT
BEGIN:VEVENT
DTSTART;TZID=America/New_York:20240809T183000
DTEND;TZID=America/New_York:20240809T230000
DTSTAMP:20260423T173035
CREATED:20240627T020837Z
LAST-MODIFIED:20240627T020837Z
UID:1145-1723228200-1723244400@raleigh-tabletop.org
SUMMARY:Future Crisis Battle Brigade: Season 1\, Session 3
DESCRIPTION:Future Crisis Battle Brigade is a multi-GM\, many-Player Community Campaign run for members of Raleigh Tabletop RPGs using the Beam Saber TTRPG system. A descendant of the Forged in the Dark framework\, Beam Saber is a game of passionate\, dramatic mecha Pilots striving to survive a forever war waged by five massive factions\, the Sovereigns\, in a distant future. Working together in Squads\, the Players’ Pilots take on dangerous missions\, attain their goals by whatever means they decide\, and come together once more at their home base to recover and prepare for the next mission. \nSession 0 will take place online via RTR’s Discord server.
URL:https://raleigh-tabletop.org/event/future-crisis-battle-brigade-season-1-session-3/
LOCATION:The Kitchen Table at Relish\, 5629 Creedmoor Rd\, Raleigh\, NC\, 27612\, United States
CATEGORIES:Beam Saber,Club Play,Future Crisis Battle Brigade
ATTACH;FMTTYPE=image/png:https://raleigh-tabletop.org/wp-content/uploads/2024/06/BeamSaber_16x9-v2.png
END:VEVENT
BEGIN:VEVENT
DTSTART;TZID=America/New_York:20240726T183000
DTEND;TZID=America/New_York:20240726T230000
DTSTAMP:20260423T173035
CREATED:20240627T020653Z
LAST-MODIFIED:20240627T020653Z
UID:1143-1722018600-1722034800@raleigh-tabletop.org
SUMMARY:Future Crisis Battle Brigade: Season 1\, Session 2
DESCRIPTION:Future Crisis Battle Brigade is a multi-GM\, many-Player Community Campaign run for members of Raleigh Tabletop RPGs using the Beam Saber TTRPG system. A descendant of the Forged in the Dark framework\, Beam Saber is a game of passionate\, dramatic mecha Pilots striving to survive a forever war waged by five massive factions\, the Sovereigns\, in a distant future. Working together in Squads\, the Players’ Pilots take on dangerous missions\, attain their goals by whatever means they decide\, and come together once more at their home base to recover and prepare for the next mission. \nSession 0 will take place online via RTR’s Discord server.
URL:https://raleigh-tabletop.org/event/future-crisis-battle-brigade-season-1-session-2/
LOCATION:The Kitchen Table at Relish\, 5629 Creedmoor Rd\, Raleigh\, NC\, 27612\, United States
CATEGORIES:Beam Saber,Club Play,Future Crisis Battle Brigade
ATTACH;FMTTYPE=image/png:https://raleigh-tabletop.org/wp-content/uploads/2024/06/BeamSaber_16x9-v2.png
END:VEVENT
BEGIN:VEVENT
DTSTART;TZID=America/New_York:20240712T183000
DTEND;TZID=America/New_York:20240712T230000
DTSTAMP:20260423T173035
CREATED:20240627T020456Z
LAST-MODIFIED:20240627T020527Z
UID:1138-1720809000-1720825200@raleigh-tabletop.org
SUMMARY:Future Crisis Battle Brigade: Season 1\, Session 1
DESCRIPTION:Future Crisis Battle Brigade is a multi-GM\, many-Player Community Campaign run for members of Raleigh Tabletop RPGs using the Beam Saber TTRPG system. A descendant of the Forged in the Dark framework\, Beam Saber is a game of passionate\, dramatic mecha Pilots striving to survive a forever war waged by five massive factions\, the Sovereigns\, in a distant future. Working together in Squads\, the Players’ Pilots take on dangerous missions\, attain their goals by whatever means they decide\, and come together once more at their home base to recover and prepare for the next mission. \nSession 0 will take place online via RTR’s Discord server.
URL:https://raleigh-tabletop.org/event/future-crisis-battle-brigade-season-1-session-1/
LOCATION:The Kitchen Table at Relish\, 5629 Creedmoor Rd\, Raleigh\, NC\, 27612\, United States
CATEGORIES:Beam Saber,Club Play,Future Crisis Battle Brigade
ATTACH;FMTTYPE=image/png:https://raleigh-tabletop.org/wp-content/uploads/2024/06/BeamSaber_16x9-v2.png
END:VEVENT
BEGIN:VEVENT
DTSTART;TZID=America/New_York:20240705T183000
DTEND;TZID=America/New_York:20240705T230000
DTSTAMP:20260423T173035
CREATED:20240627T015611Z
LAST-MODIFIED:20240627T015611Z
UID:1136-1720204200-1720220400@raleigh-tabletop.org
SUMMARY:Future Crisis Battle Brigade: Season 1\, Session 0
DESCRIPTION:Future Crisis Battle Brigade is a multi-GM\, many-Player Community Campaign run for members of Raleigh Tabletop RPGs using the Beam Saber TTRPG system. A descendant of the Forged in the Dark framework\, Beam Saber is a game of passionate\, dramatic mecha Pilots striving to survive a forever war waged by five massive factions\, the Sovereigns\, in a distant future. Working together in Squads\, the Players’ Pilots take on dangerous missions\, attain their goals by whatever means they decide\, and come together once more at their home base to recover and prepare for the next mission. \nSession 0 will take place online via RTR’s Discord server.
URL:https://raleigh-tabletop.org/event/future-crisis-battle-brigade-season-1-session-0/
LOCATION:Online event
CATEGORIES:Beam Saber,Club Play,Future Crisis Battle Brigade
ATTACH;FMTTYPE=image/png:https://raleigh-tabletop.org/wp-content/uploads/2024/06/BeamSaber_16x9-v2.png
END:VEVENT
END:VCALENDAR